BEGIN:VCALENDAR
VERSION:2.0
PRODID:spatie/icalendar-generator
DESCRIPTION:Events from EmberShadow
X-WR-CALDESC:Events from EmberShadow
REFRESH-INTERVAL;VALUE=DURATION:PT1440M
X-PUBLISHED-TTL:PT1440M
BEGIN:VTIMEZONE
TZID:Europe/London
BEGIN:DAYLIGHT
DTSTART:20250330T010000Z
TZOFFSETFROM:+0000
TZOFFSETTO:+0100
END:DAYLIGHT
BEGIN:STANDARD
DTSTART:20251026T020000Z
TZOFFSETFROM:+0100
TZOFFSETTO:+0000
END:STANDARD
BEGIN:DAYLIGHT
DTSTART:20260329T010000Z
TZOFFSETFROM:+0000
TZOFFSETTO:+0100
END:DAYLIGHT
END:VTIMEZONE
BEGIN:VTIMEZONE
TZID:UTC
BEGIN:STANDARD
DTSTART:20250723T180202Z
TZOFFSETFROM:+0000
TZOFFSETTO:+0000
END:STANDARD
END:VTIMEZONE
BEGIN:VEVENT
UID:178-9
DTSTAMP:20260419T180202Z
SUMMARY:Community movie night
LOCATION:
ORGANIZER;CN=Ember:MAILTO:embershadow2019@gmail.com
RRULE:FREQ=MONTHLY;BYDAY=4WE;UNTIL=20351231T000000Z
DTSTART;TZID=Europe/London:20251224T230000
DTEND;TZID=Europe/London:20251224T235900
X-ALT-DESC;FMTTYPE=TEXT/HTML:
CATEGORIES:Community
URL;VALUE=URI:https://embershadow.com/mc-events/community-movie-night-2/?mc
 _id=178
METHOD:PUBLISH
END:VEVENT
END:VCALENDAR