BEGIN:VCALENDAR
VERSION:2.0
PRODID:spatie/icalendar-generator
DESCRIPTION:Events from EmberShadow
X-WR-CALDESC:Events from EmberShadow
REFRESH-INTERVAL;VALUE=DURATION:PT1440M
X-PUBLISHED-TTL:PT1440M
BEGIN:VTIMEZONE
TZID:Europe/London
BEGIN:STANDARD
DTSTART:20251026T020000Z
TZOFFSETFROM:+0100
TZOFFSETTO:+0000
END:STANDARD
BEGIN:DAYLIGHT
DTSTART:20260329T010000Z
TZOFFSETFROM:+0000
TZOFFSETTO:+0100
END:DAYLIGHT
BEGIN:STANDARD
DTSTART:20261025T020000Z
TZOFFSETFROM:+0100
TZOFFSETTO:+0000
END:STANDARD
END:VTIMEZONE
BEGIN:VTIMEZONE
TZID:UTC
BEGIN:STANDARD
DTSTART:20250723T173155Z
TZOFFSETFROM:+0000
TZOFFSETTO:+0000
END:STANDARD
END:VTIMEZONE
BEGIN:VEVENT
UID:15-5
DTSTAMP:20260419T173155Z
SUMMARY:Indie game subathon for affiliate anniversary
LOCATION:
ORGANIZER;CN=Ember:MAILTO:embershadow2019@gmail.com
RRULE:FREQ=YEARLY;BYMONTH=05;BYDAY=06;UNTIL=20351201T000000Z
DTSTART;TZID=Europe/London:20260506T180000
DTEND;TZID=Europe/London:20260506T190000
X-ALT-DESC;FMTTYPE=TEXT/HTML:
CATEGORIES:Stream
URL;VALUE=URI:https://embershadow.com/mc-events/indie-game-subathon-for-aff
 iliate-anniversary/?mc_id=15
METHOD:PUBLISH
END:VEVENT
END:VCALENDAR